BEGIN:VCALENDAR
VERSION:2.0
PRODID:-//Kappa Delta - ECPv6.15.20//NONSGML v1.0//EN
CALSCALE:GREGORIAN
METHOD:PUBLISH
X-WR-CALNAME:Kappa Delta
X-ORIGINAL-URL:https://kappadelta.org
X-WR-CALDESC:Events for Kappa Delta
REFRESH-INTERVAL;VALUE=DURATION:PT1H
X-Robots-Tag:noindex
X-PUBLISHED-TTL:PT1H
BEGIN:VTIMEZONE
TZID:UTC
BEGIN:STANDARD
TZOFFSETFROM:+0000
TZOFFSETTO:+0000
TZNAME:UTC
DTSTART:20220101T000000
END:STANDARD
END:VTIMEZONE
BEGIN:VEVENT
DTSTART;VALUE=DATE:20230630
DTEND;VALUE=DATE:20230704
DTSTAMP:20260421T174034
CREATED:20220921T003119Z
LAST-MODIFIED:20220921T184854Z
UID:11472-1688083200-1688428799@kappadelta.org
SUMMARY:National Convention
DESCRIPTION:Make plans to join us for Kappa Delta’s 65th Biennial National Convention\, scheduled for June 30-July 3\, 2023\, at the Gaylord National Resort and Convention Center in National Harbor\, Maryland\, where we’ll celebrate 125 years of Kappa Delta! The National Leadership Training Academy for NLT members will take place June 29. \nStay tuned for updates on registration\, event schedule and more!
URL:https://kappadelta.org/event/national-convention/
LOCATION:Gaylord National Resort and Convenion Center\, 201 Waterfront Street\, National Harbor\, MD\, 20745\, United States
ATTACH;FMTTYPE=image/png:https://kappadelta.org/wp-content/uploads/2022/09/Gaylord-National-Resort-Convention-Center-1.png
ORGANIZER;CN="Kappa Delta":MAILTO:kappadelta@kappadelta.org
END:VEVENT
END:VCALENDAR